BEGIN:VCALENDAR
VERSION:2.0
PRODID:-//musicfan - ECPv6.15.13.1//NONSGML v1.0//EN
CALSCALE:GREGORIAN
METHOD:PUBLISH
X-ORIGINAL-URL:https://musicfan.info
X-WR-CALDESC:musicfan のイベント
REFRESH-INTERVAL;VALUE=DURATION:PT1H
X-Robots-Tag:noindex
X-PUBLISHED-TTL:PT1H
BEGIN:VTIMEZONE
TZID:Asia/Tokyo
BEGIN:STANDARD
TZOFFSETFROM:+0900
TZOFFSETTO:+0900
TZNAME:JST
DTSTART:20250101T000000
END:STANDARD
END:VTIMEZONE
BEGIN:VEVENT
DTSTART;TZID=Asia/Tokyo:20260516T080000
DTEND;TZID=Asia/Tokyo:20260516T170000
DTSTAMP:20260425T214254
CREATED:20250910T232237Z
LAST-MODIFIED:20250910T232237Z
UID:431-1778918400-1778950800@musicfan.info
SUMMARY:★Batch Presents Tribute Event THE DENSHOW 伝承” HARDROCK DENSHOW Vol.80 ”
DESCRIPTION:2026年5月16日(土)巣鴨獅子王★Batch Presents Tribute Event THE DENSHOW 伝承” HARDROCK DENSHOW Vol.80 ”\n前売2500円/当日3000円ドリンク代600円\nOpen 14:30/Start 15:00\n① Blindside (70〜80’s洋楽ハードロックカバー)② BASTARD CRUE (as Mötley Crüe)③ BATT (as RATT)④ Whitestsnake (as Whitsnake)⑤ END OF A RAINBOW (as 1990 Deep Purple)\n\n巣鴨　獅子王東京都 豊島区 巣鴨 2-3-3http://sugamo-cco.com/info@sugamo-cco.com
URL:https://musicfan.info/event/%e2%98%85batch-presents-tribute-event-the-denshow-%e4%bc%9d%e6%89%bf-hardrock-denshow-vol-80/
LOCATION:巣鴨獅子王\, 巣鴨 2-3-3\, 豊島区\, 東京都\, 170-0002\, Japan
CATEGORIES:国内ライブ,トリビュートバンド
ATTACH;FMTTYPE=image/jpeg:https://musicfan.info/wp-content/uploads/2025/09/20260516.jpg
END:VEVENT
END:VCALENDAR